Workbook

Sheet 총괄
A2: 2026년 의정운영공통경비 예산 배분 현황 및 집행내역_2분기
A4: 1. 총 괄
A5: (기준: 최종 예산, 단위: 원)
A6: 연 도 | B6: 예산액 | C6: 집행액 | D6: 집행잔액 | E6: 집행률(%) | F6: 비 고
A7: 2024 | B7: 378900000 | C7: 335925424 | D7: =B7-C7 -> 42974576 | E7: =C7/B7*100 -> 88.658069
A8: 2025 | B8: 381261000 | C8: 348187467 | D8: =B8-C8 -> 33073533 | E8: =C8/B8*100 -> 91.325225 | F8: 본예산액 388,900.000 변경 △ 7,639,000
A9: 2026 | B9: 379458000 | C9: =G14 -> 2577134 | D9: =B9-C9 -> 376880866 | E9: =C9/B9*100 -> 0.67916186
A11: 2. 배분 현황
A12: (기준: 2026. 1. / 단위: 원)
A13: 구분 | B13: 대상사업 | E13: 소관 부서 | F13: 예산액 | G13: 집행액 | H13: 집행잔액 | I13: 집행률(%) | J13: 1차 조정
A14: 계 | F14: =SUM(F15:F27) -> 379458000 | G14: =SUM(G15:G27) -> 2577134 | H14: =F14-G14 -> 376880866 | I14: =G14/F14*100 -> 0.67916186
A15: 1 | B15: 본회의 회의비 | E15: 의정 | F15: 6000000 | G15: ='1.본회의 회의비_해당없음'!F5 -> 0 | H15: =F15-G15 -> 6000000 | I15: =G15/F15*100 -> 0
A16: 2 | B16: 위원회 회의비 | E16: 상임위, 특위 | F16: 89000000 | G16: ='2. 위원회 회의비'!C15 -> 1001100 | H16: =F16-G16 -> 87998900 | I16: =G16/F16*100 -> 1.1248315
A17: 3 | B17: 위원회 운영비 | E17: 상임위, 특위 | F17: 66000000 | G17: ='3. 위원회 운영비'!C15 -> 1576034 | H17: =F17-G17 -> 64423966 | I17: =G17/F17*100 -> 2.3879303
A18: 4 | B18: 의원 연구활동 등 지원 | E18: 입법 | F18: 67000000 | H18: =F18-G18 -> 67000000 | I18: =G18/F18*100 -> 0 | J18: -8000
A19: 5 | B19: 정책토론회 및 공청회 등 | E19: 입법 | F19: 14000000 | H19: =F19-G19 -> 14000000 | I19: =G19/F19*100 -> 0 | J19: -8000
A20: 6 | B20: 소외계층 위문경비 | E20: 의정 | F20: 5000000 | G20: ='6. 소외계층 위문경비_해당없음'!F5 -> 0 | H20: =F20-G20 -> 5000000 | I20: =G20/F20*100 -> 0 | J20: -5000
A21: 7 | B21: 유관기관 및 단체와 간담회 | E21: 소통 | F21: 5000000 | G21: ='7. 유관기관 및 단체와의 간담회_해당없음'!F5 -> 0 | H21: =F21-G21 -> 5000000 | I21: =G21/F21*100 -> 0
A22: 8 | B22: 전체의원 연찬회 | E22: 의정 | F22: 10000000 | G22: ='8. 전체의원 연찬회_해당없음'!F5 -> 0 | H22: =F22-G22 -> 10000000 | I22: =G22/F22*100 -> 0 | J22: -7000
A23: 9 | B23: 의정활동 격려 및 위로금 | E23: 의정 | F23: 3000000 | G23: ='9. 의정활동 격려 및 위로금_해당없음'!F5 -> 0 | H23: =F23-G23 -> 3000000 | I23: =G23/F23*100 -> 0
A24: 10 | B24: 신년인사회 및 개원식 | E24: 의정 | F24: 49000000 | G24: ='10. 신년 인사회 및 개원식_해당없음'!F5 -> 0 | H24: =F24-G24 -> 49000000 | I24: =G24/F24*100 -> 0 | J24: 33000
A25: 11 | B25: 축조 화환 및 기념품 구입 | E25: 의정 | F25: 5000000 | G25: ='11. 축조화환 및 기념품 구입_해당없음'!F5 -> 0 | H25: =F25-G25 -> 5000000 | I25: =G25/F25*100 -> 0 | J25: -5000
A26: 12 | B26: 교섭단체 지원 | E26: 운영 | F26: 36000000 | G26: ='12. 교섭단체 지원_해당없음'!F5 -> 0 | H26: =F26-G26 -> 36000000 | I26: =G26/F26*100 -> 0
A27: 13 | B27: 기타 공적경비 | E27: 의정 | F27: 24458000 | G27: ='13. 기타 공적경비_해당없음'!F5 -> 0 | H27: =F27-G27 -> 24458000 | I27: =G27/F27*100 -> 0

Sheet 1.본회의 회의비_해당없음
A2: 의정운영공통경비 집행현황_1. 본회의 회의비
G3: (단위: 원)
A4: 연번 | B4: 일시 | C4: 장소 | D4: 집행목적 | E4: 대상인원 | F4: 금액 | G4: 결제방법
A5: 계 | F5: =SUM(F6:F46) -> 0
A6: =SUBTOTAL(103,$B$6:B6) -> 0 | G6: 신용카드
A7: =SUBTOTAL(103,$B$6:B7) -> 0 | G7: 신용카드
A8: =SUBTOTAL(103,$B$6:B8) -> 0 | G8: 신용카드
A9: =SUBTOTAL(103,$B$6:B9) -> 0 | G9: 신용카드
A10: =SUBTOTAL(103,$B$6:B10) -> 0 | G10: 신용카드
A11: =SUBTOTAL(103,$B$6:B11) -> 0
A12: =SUBTOTAL(103,$B$6:B12) -> 0
A13: =SUBTOTAL(103,$B$6:B13) -> 0
A14: =SUBTOTAL(103,$B$6:B14) -> 0
A15: =SUBTOTAL(103,$B$6:B15) -> 0
A16: =SUBTOTAL(103,$B$6:B16) -> 0
A17: =SUBTOTAL(103,$B$6:B17) -> 0
A18: =SUBTOTAL(103,$B$6:B18) -> 0
A19: =SUBTOTAL(103,$B$6:B19) -> 0
A20: =SUBTOTAL(103,$B$6:B20) -> 0
A21: =SUBTOTAL(103,$B$6:B21) -> 0
A22: =SUBTOTAL(103,$B$6:B22) -> 0
... A46: =SUBTOTAL(103,$B$6:B46) -> 0

Sheet 2. 위원회 회의비
A2: 의정운영공통경비 집행현황_2. 위원회 회의비
A4: ◇ 총괄 현황
A5: (단위: 원)
A6: 소관부서 | B6: 배분액 | C6: 집행액 | D6: 잔액 | E6: 집행률(%)
A7: 운영 | B7: 4000000 | C7: =SUMIF(B20:B60,"운영",H20:H60) -> 0 | D7: =B7-C7 -> 4000000 | E7: =C7/B7*100 -> 0
A8: 행안 | B8: 15000000 | C8: =SUMIF(B20:B60,"행안",H20:H60) -> 0 | D8: =B8-C8 -> 15000000 | E8: =C8/B8*100 -> 0
A9: 문복 | B9: 15000000 | C9: =SUMIF(B20:B60,"문복",H20:H60) -> 0 | D9: =B9-C9 -> 15000000 | E9: =C9/B9*100 -> 0
A10: 산경 | B10: 15000000 | C10: =SUMIF(B20:B60,"산경",H20:H60) -> 0 | D10: =B10-C10 -> 15000000 | E10: =C10/B10*100 -> 0
A11: 건교 | B11: 15000000 | C11: =SUMIF(B20:B60,"건교",H20:H60) -> 0 | D11: =B11-C11 -> 15000000 | E11: =C11/B11*100 -> 0
A12: 교육 | B12: 15000000 | C12: =SUMIF(B20:B60,"교육",H20:H60) -> 1001100 | D12: =B12-C12 -> 13998900 | E12: =C12/B12*100 -> 6.674
A13: 예결 | B13: 4000000 | C13: =SUMIF(B20:B60,"예결",H20:H60) -> 0 | D13: =B13-C13 -> 4000000 | E13: =C13/B13*100 -> 0
A14: 특위 | B14: 6000000 | C14: =SUMIF(B20:B60,"특위",H20:H60) -> 0 | D14: =B14-C14 -> 6000000 | E14: =C14/B14*100 -> 0
A15: 계 | B15: =SUM(B7:B14) -> 89000000 | C15: =SUM(C7:C14) -> 1001100 | D15: =SUM(D7:D14) -> 87998900 | E15: =C15/B15*100 -> 1.1248315
A17: ◇ 세부 집행 현황
I18: (단위: 원)
A19: 연번 | B19: 사용 부서 | C19: 일시 | D19: 장소 | E19: 집행목적 | G19: 대상인원 | H19: 금액 | I19: 결제방법
A20: =SUBTOTAL(103,$C$20:C20) -> 1 | B20: 교육 | C20: 2026-04-24 10:54 | D20: 상무초밥 | E20: 제308회 임시회 제1차 본회의에 따른 회의비 지출 | G20: 5 | H20: 224300 | I20: 신용카드
A21: =SUBTOTAL(103,$C$20:C21) -> 2 | B21: 교육 | C21: 2026-04-30 11:10 | D21: 한솥도시락 | E21: 제309회 임시회 제1차 본회의에 따른 회의비 지출 | G21: 4 | H21: 136800 | I21: 신용카드
A22: =SUBTOTAL(103,$C$20:C22) -> 3 | B22: 교육 | C22: 46184.5 | D22: 다래향 | E22: 제310회 정례회 제1차 본회의에 따른 회의비 지출 | G22: 5 | H22: 120000 | I22: 신용카드
A23: =SUBTOTAL(103,$C$20:C23) -> 4 | B23: 교육 | C23: 46188.515 | D23: 삼만시 | E23: 제310회 정례회 제1차 교육위원회에 따른 회의비 지출 | G23: 6 | H23: 240000 | I23: 신용카드
A24: =SUBTOTAL(103,$C$20:C24) -> 5 | B24: 교육 | C24: 46189.531 | D24: 대관령숯불갈비 | E24: 제310회 정례회 제2차 교육위원회에 따른 회의비 지출 | G24: 7 | H24: 280000 | I24: 신용카드
A25: =SUBTOTAL(103,$C$20:C25) -> 6 | B25: 이 | C25: 하 | D25: 여 | E25: 백
A26: =SUBTOTAL(103,$C$20:C26) -> 6
A27: =SUBTOTAL(103,$C$20:C27) -> 6
A28: =SUBTOTAL(103,$C$20:C28) -> 6
A29: =SUBTOTAL(103,$C$20:C29) -> 6
A30: =SUBTOTAL(103,$C$20:C30) -> 6
A31: =SUBTOTAL(103,$C$20:C31) -> 6
A32: =SUBTOTAL(103,$C$20:C32) -> 6
A33: =SUBTOTAL(103,$C$20:C33) -> 6
A34: =SUBTOTAL(103,$C$20:C34) -> 6
A35: =SUBTOTAL(103,$C$20:C35) -> 6
A36: =SUBTOTAL(103,$C$20:C36) -> 6
A37: =SUBTOTAL(103,$C$20:C37) -> 6
... A60: =SUBTOTAL(103,$C$20:C60) -> 6

Sheet 3. 위원회 운영비
A2: 의정운영공통경비 집행현황_3. 위원회 운영비
A4: ◇ 총괄 현황
A5: (단위: 원)
A6: 소관부서 | B6: 배분액 | C6: 집행액 | D6: 잔액 | E6: 집행률(%)
A7: 운영 | B7: 5000000 | C7: =SUMIF(B20:B60,"운영",H20:H60) -> 0 | D7: =B7-C7 -> 5000000 | E7: =C7/B7*100 -> 0
A8: 행안 | B8: 10000000 | C8: =SUMIF(B20:B60,"행안",H20:H60) -> 0 | D8: =B8-C8 -> 10000000 | E8: =C8/B8*100 -> 0
A9: 문복 | B9: 10000000 | C9: =SUMIF(B20:B60,"문복",H20:H60) -> 0 | D9: =B9-C9 -> 10000000 | E9: =C9/B9*100 -> 0
A10: 산경 | B10: 10000000 | C10: =SUMIF(B20:B60,"산경",H20:H60) -> 0 | D10: =B10-C10 -> 10000000 | E10: =C10/B10*100 -> 0
A11: 건교 | B11: 10000000 | C11: =SUMIF(B20:B60,"건교",H20:H60) -> 0 | D11: =B11-C11 -> 10000000 | E11: =C11/B11*100 -> 0
A12: 교육 | B12: 10000000 | C12: =SUMIF(B20:B60,"교육",H20:H60) -> 1576034 | D12: =B12-C12 -> 8423966 | E12: =C12/B12*100 -> 15.76034
A13: 예결 | B13: 7000000 | C13: =SUMIF(B20:B60,"예결",H20:H60) -> 0 | D13: =B13-C13 -> 7000000 | E13: =C13/B13*100 -> 0
A14: 특위 | B14: 4000000 | C14: =SUMIF(B20:B60,"특위",H20:H60) -> 0 | D14: =B14-C14 -> 4000000 | E14: =C14/B14*100 -> 0
A15: 계 | B15: =SUM(B7:B14) -> 66000000 | C15: =SUM(C7:C14) -> 1576034 | D15: =SUM(D7:D14) -> 64423966 | E15: =C15/B15*100 -> 2.3879303
A17: ◇ 세부 집행 현황
I18: (단위: 원)
A19: 연번 | B19: 사용 부서 | C19: 일시 | D19: 장소 | E19: 집행목적 | G19: 대상인원 | H19: 금액 | I19: 결제방법
A20: =SUBTOTAL(103,$C$20:C20) -> 1 | B20: 교육 | C20: 2026-04-20 11:17 | D20: 대한기획 | E20: 교육위원회 의원 명함 제작 | G20: - | H20: 100000 | I20: 신용카드
A21: =SUBTOTAL(103,$C$20:C21) -> 2 | B21: 교육 | C21: 2026-04-20 17:16 | D21: SSG.COM | E21: 제308회 임시회 교육위원회 운영을 위한 다과류 등 구입 | G21: - | H21: 190810 | I21: 신용카드
A22: =SUBTOTAL(103,$C$20:C22) -> 3 | B22: 교육 | C22: 2026-04-21 15:38 | D22: 에이스종합사무기기 | E22: 2026년 4월 교육위원회 의원실 복합기 사용료 지출 | G22: - | H22: 280000 | I22: 신용카드
A23: =SUBTOTAL(103,$C$20:C23) -> 4 | B23: 교육 | C23: 2026-05-07 11:11 | D23: 에이스종합사무기기 | E23: 2026년 5월 교육위원회 의원실 복합기 사용료 지출 | G23: - | H23: 280000 | I23: 신용카드
A24: =SUBTOTAL(103,$C$20:C24) -> 5 | B24: 교육 | C24: 2026-06-09 15:32 | D24: SSG.COM | E24: 제310회 정례회 교육위원회 운영을 위한 다과류 등 구입 | G24: - | H24: 388524 | I24: 신용카드
A25: =SUBTOTAL(103,$C$20:C25) -> 6 | B25: 교육 | C25: 2026-06-16 14:46 | D25: 에이스종합사무기기 | E25: 2026년 6월 교육위원회 의원실 복합기 사용료 지출 | G25: - | H25: 280000 | I25: 신용카드
A26: =SUBTOTAL(103,$C$20:C26) -> 7 | B26: 교육 | C26: 2026-06-24 09:28 | D26: 인천문구센타 | E26: 제310회 본회의에 따른 사무용품 구입 | G26: - | H26: 56700 | I26: 신용카드
A27: =SUBTOTAL(103,$C$20:C27) -> 8 | B27: 이 | C27: 하 | D27: 여 | E27: 백
A28: =SUBTOTAL(103,$C$20:C28) -> 8
A29: =SUBTOTAL(103,$C$20:C29) -> 8
A30: =SUBTOTAL(103,$C$20:C30) -> 8
A31: =SUBTOTAL(103,$C$20:C31) -> 8
A32: =SUBTOTAL(103,$C$20:C32) -> 8
A33: =SUBTOTAL(103,$C$20:C33) -> 8
A34: =SUBTOTAL(103,$C$20:C34) -> 8
A35: =SUBTOTAL(103,$C$20:C35) -> 8
A36: =SUBTOTAL(103,$C$20:C36) -> 8
A37: =SUBTOTAL(103,$C$20:C37) -> 8
A38: =SUBTOTAL(103,$C$20:C38) -> 8
A39: =SUBTOTAL(103,$C$20:C39) -> 8
... A60: =SUBTOTAL(103,$C$20:C60) -> 8

Sheet 6. 소외계층 위문경비_해당없음
A2: 의정운영공통경비 집행현황_6. 소외계층 위문경비
G3: (단위: 원)
A4: 연번 | B4: 일시 | C4: 장소 | D4: 집행목적 | E4: 대상인원 | F4: 금액 | G4: 결제방법
A5: 계 | F5: =SUM(F6:F46) -> 0
A6: =SUBTOTAL(103,$B$6:B6) -> 0 | G6: 계좌이체
A7: =SUBTOTAL(103,$B$6:B7) -> 0
A8: =SUBTOTAL(103,$B$6:B8) -> 0
A9: =SUBTOTAL(103,$B$6:B9) -> 0
A10: =SUBTOTAL(103,$B$6:B10) -> 0
A11: =SUBTOTAL(103,$B$6:B11) -> 0
A12: =SUBTOTAL(103,$B$6:B12) -> 0
A13: =SUBTOTAL(103,$B$6:B13) -> 0
A14: =SUBTOTAL(103,$B$6:B14) -> 0
A15: =SUBTOTAL(103,$B$6:B15) -> 0
A16: =SUBTOTAL(103,$B$6:B16) -> 0
A17: =SUBTOTAL(103,$B$6:B17) -> 0
A18: =SUBTOTAL(103,$B$6:B18) -> 0
... A46: =SUBTOTAL(103,$B$6:B46) -> 0

Sheet 7. 유관기관 및 단체와의 간담회_해당없음
A2: 의정운영공통경비 집행현황_7. 유관기관 및 단체과의 간담회
G3: (단위: 원)
A4: 연번 | B4: 일시 | C4: 장소 | D4: 집행목적 | E4: 대상인원 | F4: 금액 | G4: 결제방법
A5: 계 | F5: =SUM(F6:F46) -> 0
A6: =SUBTOTAL(103,$B$6:B6) -> 0 | G6: 신용카드
A7: =SUBTOTAL(103,$B$6:B7) -> 0
A8: =SUBTOTAL(103,$B$6:B8) -> 0
A9: =SUBTOTAL(103,$B$6:B9) -> 0
A10: =SUBTOTAL(103,$B$6:B10) -> 0
A11: =SUBTOTAL(103,$B$6:B11) -> 0
A12: =SUBTOTAL(103,$B$6:B12) -> 0
A13: =SUBTOTAL(103,$B$6:B13) -> 0
A14: =SUBTOTAL(103,$B$6:B14) -> 0
A15: =SUBTOTAL(103,$B$6:B15) -> 0
A16: =SUBTOTAL(103,$B$6:B16) -> 0
A17: =SUBTOTAL(103,$B$6:B17) -> 0
A18: =SUBTOTAL(103,$B$6:B18) -> 0
... A46: =SUBTOTAL(103,$B$6:B46) -> 0

Sheet 8. 전체의원 연찬회_해당없음
A2: 의정운영공통경비 집행현황_8. 전체의원 연찬회
G3: (단위: 원)
A4: 연번 | B4: 일시 | C4: 장소 | E4: 대상인원 | F4: 금액 | G4: 결제방법
A5: 계 | F5: =SUM(F6:F46) -> 0
A6: =SUBTOTAL(103,$B$6:B6) -> 1 | B6: 2026-00-00 00:00 | G6: 신용카드
A7: =SUBTOTAL(103,$B$6:B7) -> 1
A8: =SUBTOTAL(103,$B$6:B8) -> 1
A9: =SUBTOTAL(103,$B$6:B9) -> 1
A10: =SUBTOTAL(103,$B$6:B10) -> 1
A11: =SUBTOTAL(103,$B$6:B11) -> 1
A12: =SUBTOTAL(103,$B$6:B12) -> 1
A13: =SUBTOTAL(103,$B$6:B13) -> 1
A14: =SUBTOTAL(103,$B$6:B14) -> 1
A15: =SUBTOTAL(103,$B$6:B15) -> 1
A16: =SUBTOTAL(103,$B$6:B16) -> 1
A17: =SUBTOTAL(103,$B$6:B17) -> 1
A18: =SUBTOTAL(103,$B$6:B18) -> 1
... A46: =SUBTOTAL(103,$B$6:B46) -> 1

Sheet 9. 의정활동 격려 및 위로금_해당없음
A2: 의정운영공통경비 집행현황_9. 의정활동 격려 및 위로금
A3: . | G3: (단위: 원)
A4: 연번 | B4: 일시 | C4: 장소 | D4: 집행목적 | E4: 대상인원 | F4: 금액 | G4: 결제방법
A5: 계 | F5: =SUM(F6:F46) -> 0
A6: =SUBTOTAL(103,$B$6:B6) -> 0 | G6: 현금
A7: =SUBTOTAL(103,$B$6:B7) -> 0
A8: =SUBTOTAL(103,$B$6:B8) -> 0
A9: =SUBTOTAL(103,$B$6:B9) -> 0
A10: =SUBTOTAL(103,$B$6:B10) -> 0
A11: =SUBTOTAL(103,$B$6:B11) -> 0
A12: =SUBTOTAL(103,$B$6:B12) -> 0
A13: =SUBTOTAL(103,$B$6:B13) -> 0
A14: =SUBTOTAL(103,$B$6:B14) -> 0
A15: =SUBTOTAL(103,$B$6:B15) -> 0
A16: =SUBTOTAL(103,$B$6:B16) -> 0
A17: =SUBTOTAL(103,$B$6:B17) -> 0
A18: =SUBTOTAL(103,$B$6:B18) -> 0
... A46: =SUBTOTAL(103,$B$6:B46) -> 0

Sheet 10. 신년 인사회 및 개원식_해당없음
A2: 의정운영공통경비 집행현황_10. 신년 인사회 및 개원식
A3: . | G3: (단위: 원)
A4: 연번 | B4: 일시 | C4: 장소 | D4: 집행목적 | E4: 대상인원 | F4: 금액 | G4: 결제방법
A5: 계 | F5: =SUM(F6:F46) -> 0
A6: =SUBTOTAL(103,$B$6:B6) -> 0 | G6: 신용카드
A7: =SUBTOTAL(103,$B$6:B7) -> 0 | G7: 계좌이체
A8: =SUBTOTAL(103,$B$6:B8) -> 0 | G8: 계좌이체
A9: =SUBTOTAL(103,$B$6:B9) -> 0 | G9: 신용카드
A10: =SUBTOTAL(103,$B$6:B10) -> 0
A11: =SUBTOTAL(103,$B$6:B11) -> 0
A12: =SUBTOTAL(103,$B$6:B12) -> 0
A13: =SUBTOTAL(103,$B$6:B13) -> 0
A14: =SUBTOTAL(103,$B$6:B14) -> 0
A15: =SUBTOTAL(103,$B$6:B15) -> 0
A16: =SUBTOTAL(103,$B$6:B16) -> 0
A17: =SUBTOTAL(103,$B$6:B17) -> 0
A18: =SUBTOTAL(103,$B$6:B18) -> 0
A19: =SUBTOTAL(103,$B$6:B19) -> 0
A20: =SUBTOTAL(103,$B$6:B20) -> 0
A21: =SUBTOTAL(103,$B$6:B21) -> 0
... A46: =SUBTOTAL(103,$B$6:B46) -> 0

Sheet 11. 축조화환 및 기념품 구입_해당없음
A2: 의정운영공통경비 집행현황_11. 축조화환 및 기념품 구입
A3: . | G3: (단위: 원)
A4: 연번 | B4: 일시 | C4: 장소 | D4: 집행목적 | E4: 대상인원 | F4: 금액 | G4: 결제방법
A5: 계 | F5: =SUM(F6:F46) -> 0
A6: =SUBTOTAL(103,$B$6:B6) -> 0 | G6: 신용카드
A7: =SUBTOTAL(103,$B$6:B7) -> 0 | G7: 신용카드
A8: =SUBTOTAL(103,$B$6:B8) -> 0 | G8: 신용카드
A9: =SUBTOTAL(103,$B$6:B9) -> 0
A10: =SUBTOTAL(103,$B$6:B10) -> 0
A11: =SUBTOTAL(103,$B$6:B11) -> 0
A12: =SUBTOTAL(103,$B$6:B12) -> 0
A13: =SUBTOTAL(103,$B$6:B13) -> 0
A14: =SUBTOTAL(103,$B$6:B14) -> 0
A15: =SUBTOTAL(103,$B$6:B15) -> 0
A16: =SUBTOTAL(103,$B$6:B16) -> 0
A17: =SUBTOTAL(103,$B$6:B17) -> 0
A18: =SUBTOTAL(103,$B$6:B18) -> 0
A19: =SUBTOTAL(103,$B$6:B19) -> 0
A20: =SUBTOTAL(103,$B$6:B20) -> 0
... A46: =SUBTOTAL(103,$B$6:B46) -> 0

Sheet 12. 교섭단체 지원_해당없음
A2: 의정운영공통경비 집행현황_12. 교섭단체 지원
A3: . | G3: (단위: 원)
A4: 연번 | B4: 일시 | C4: 장소 | D4: 집행목적 | E4: 대상인원 | F4: 금액 | G4: 결제방법
A5: 계 | F5: =SUM(F6:F46) -> 0
A6: =SUBTOTAL(103,$B$6:B6) -> 1 | B6: 2026-00-00 00:00 | G6: 신용카드
A7: =SUBTOTAL(103,$B$6:B7) -> 1
A8: =SUBTOTAL(103,$B$6:B8) -> 1
A9: =SUBTOTAL(103,$B$6:B9) -> 1
A10: =SUBTOTAL(103,$B$6:B10) -> 1
A11: =SUBTOTAL(103,$B$6:B11) -> 1
A12: =SUBTOTAL(103,$B$6:B12) -> 1
A13: =SUBTOTAL(103,$B$6:B13) -> 1
A14: =SUBTOTAL(103,$B$6:B14) -> 1
A15: =SUBTOTAL(103,$B$6:B15) -> 1
A16: =SUBTOTAL(103,$B$6:B16) -> 1
A17: =SUBTOTAL(103,$B$6:B17) -> 1
A18: =SUBTOTAL(103,$B$6:B18) -> 1
... A46: =SUBTOTAL(103,$B$6:B46) -> 1

Sheet 13. 기타 공적경비_해당없음
A2: 의정운영공통경비 집행현황_13. 기타 공적경비
A3: . | G3: (단위: 원)
A4: 연번 | B4: 일시 | C4: 장소 | D4: 집행목적 | E4: 대상인원 | F4: 금액 | G4: 결제방법
A5: 계 | F5: =SUM(F6:F46) -> 0
A6: =SUBTOTAL(103,$B$6:B6) -> 0 | G6: 신용카드
A7: =SUBTOTAL(103,$B$6:B7) -> 0 | G7: 신용카드
A8: =SUBTOTAL(103,$B$6:B8) -> 0 | G8: 신용카드
A9: =SUBTOTAL(103,$B$6:B9) -> 0 | G9: 신용카드
A10: =SUBTOTAL(103,$B$6:B10) -> 0 | G10: 신용카드
A11: =SUBTOTAL(103,$B$6:B11) -> 0 | G11: 신용카드
A12: =SUBTOTAL(103,$B$6:B12) -> 0 | G12: 신용카드
A13: =SUBTOTAL(103,$B$6:B13) -> 0 | G13: 신용카드
A14: =SUBTOTAL(103,$B$6:B14) -> 0 | G14: 신용카드
A15: =SUBTOTAL(103,$B$6:B15) -> 0 | G15: 신용카드
A16: =SUBTOTAL(103,$B$6:B16) -> 0
A17: =SUBTOTAL(103,$B$6:B17) -> 0
A18: =SUBTOTAL(103,$B$6:B18) -> 0
A19: =SUBTOTAL(103,$B$6:B19) -> 0
A20: =SUBTOTAL(103,$B$6:B20) -> 0
A21: =SUBTOTAL(103,$B$6:B21) -> 0
A22: =SUBTOTAL(103,$B$6:B22) -> 0
A23: =SUBTOTAL(103,$B$6:B23) -> 0
A24: =SUBTOTAL(103,$B$6:B24) -> 0
A25: =SUBTOTAL(103,$B$6:B25) -> 0
A26: =SUBTOTAL(103,$B$6:B26) -> 0
A27: =SUBTOTAL(103,$B$6:B27) -> 0
... A46: =SUBTOTAL(103,$B$6:B46) -> 0
